BEGIN:VCALENDAR
VERSION:2.0
PRODID:-//NCBW | National Coalition of 100 Black Women, Inc. - ECPv6.15.20//NONSGML v1.0//EN
CALSCALE:GREGORIAN
METHOD:PUBLISH
X-WR-CALNAME:NCBW | National Coalition of 100 Black Women, Inc.
X-ORIGINAL-URL:https://ncbw.org
X-WR-CALDESC:Events for NCBW | National Coalition of 100 Black Women, Inc.
REFRESH-INTERVAL;VALUE=DURATION:PT1H
X-Robots-Tag:noindex
X-PUBLISHED-TTL:PT1H
BEGIN:VTIMEZONE
TZID:America/Chicago
BEGIN:DAYLIGHT
TZOFFSETFROM:-0600
TZOFFSETTO:-0500
TZNAME:CDT
DTSTART:20230312T080000
END:DAYLIGHT
BEGIN:STANDARD
TZOFFSETFROM:-0500
TZOFFSETTO:-0600
TZNAME:CST
DTSTART:20231105T070000
END:STANDARD
BEGIN:DAYLIGHT
TZOFFSETFROM:-0600
TZOFFSETTO:-0500
TZNAME:CDT
DTSTART:20240310T080000
END:DAYLIGHT
BEGIN:STANDARD
TZOFFSETFROM:-0500
TZOFFSETTO:-0600
TZNAME:CST
DTSTART:20241103T070000
END:STANDARD
BEGIN:DAYLIGHT
TZOFFSETFROM:-0600
TZOFFSETTO:-0500
TZNAME:CDT
DTSTART:20250309T080000
END:DAYLIGHT
BEGIN:STANDARD
TZOFFSETFROM:-0500
TZOFFSETTO:-0600
TZNAME:CST
DTSTART:20251102T070000
END:STANDARD
END:VTIMEZONE
BEGIN:VTIMEZONE
TZID:UTC
BEGIN:STANDARD
TZOFFSETFROM:+0000
TZOFFSETTO:+0000
TZNAME:UTC
DTSTART:20230101T000000
END:STANDARD
END:VTIMEZONE
BEGIN:VEVENT
DTSTART;TZID=America/Chicago:20240605T150000
DTEND;TZID=America/Chicago:20240608T103000
DTSTAMP:20260424T061319
CREATED:20240319T132101Z
LAST-MODIFIED:20240319T132101Z
UID:10791-1717599600-1717842600@ncbw.org
SUMMARY:2024 Leadership Conference
DESCRIPTION:THIS IS A MEMBERS-ONLY EVENT. \nRegistration is open via Wild Apricot now through May 04\, 2024.  Includes NCBW Member Registration for all Leadership Conference sessions. \nHotel reservations must be made independently by members. A link for hotel reservations is provided after event registration is complete. \nView Tentative Agenda \n  \n 
URL:https://ncbw.org/event/2024-leadership-conference/
LOCATION:Hilton Chicago\, 720 S. Michigan Avenue\, Chicago\, IL\, 60605\, United States
CATEGORIES:Conference,Economic Empowerment,Education,Health,Public Policy,Virtual
ATTACH;FMTTYPE=image/jpeg:https://ncbw.org/wp-content/uploads/2024/03/2024-NCBW-Leadership-Conference_NCBW-Event-pic_1024-x-682.jpg
END:VEVENT
BEGIN:VEVENT
DTSTART;TZID=UTC:20240617T210000
DTEND;TZID=UTC:20240623T220000
DTSTAMP:20260424T061319
CREATED:20240528T130657Z
LAST-MODIFIED:20240528T130657Z
UID:11050-1718658000-1719180000@ncbw.org
SUMMARY:NCBW Sister-Nomic$® Week
DESCRIPTION:THEME: 2024 Theme: “Power Surge:  Empowering Black Women to Lead\, Innovate and Thrive.” \nWhether successful business owners or aspiring entrepreneurs\, this week of activities promises to deliver gems for everyone\, as we empower\, equip and “ELE-HER-VATE”! \nVIEW THE FULL WEEK’S ACTIVITY SCHEDULE ON THE NCBW SISTER-NOMIC$® WEEK PAGE.
URL:https://ncbw.org/event/ncbw-sister-nomic-week/
LOCATION:Zoom Webinar
CATEGORIES:Economic Empowerment,Sister-Nomic$,Virtual
ATTACH;FMTTYPE=image/jpeg:https://ncbw.org/wp-content/uploads/2024/05/Sister-Nomic-Week-Webinars_NCBW-Event-pic_1024-x-682.jpg
END:VEVENT
END:VCALENDAR