BEGIN:VCALENDAR
VERSION:2.0
PRODID:-//NCBW | National Coalition of 100 Black Women, Inc. - ECPv6.15.20//NONSGML v1.0//EN
CALSCALE:GREGORIAN
METHOD:PUBLISH
X-ORIGINAL-URL:https://ncbw.org
X-WR-CALDESC:Events for NCBW | National Coalition of 100 Black Women, Inc.
REFRESH-INTERVAL;VALUE=DURATION:PT1H
X-Robots-Tag:noindex
X-PUBLISHED-TTL:PT1H
BEGIN:VTIMEZONE
TZID:UTC
BEGIN:STANDARD
TZOFFSETFROM:+0000
TZOFFSETTO:+0000
TZNAME:UTC
DTSTART:20230101T000000
END:STANDARD
END:VTIMEZONE
BEGIN:VEVENT
DTSTART;TZID=UTC:20240624T200000
DTEND;TZID=UTC:20240624T210000
DTSTAMP:20260421T130524
CREATED:20240528T124814Z
LAST-MODIFIED:20240528T124814Z
UID:11036-1719259200-1719262800@ncbw.org
SUMMARY:Webinar: Transformational Education Programming
DESCRIPTION:THIS WEBINAR IS FOR MEMBERS ONLY.  REGISTER VIA WILD APRICOT. \nThe National Education Committee will host this webinar on Monday\, June 24\, 2024\, at 8:00 pm ET. \nThe webinar will provide game-changing tips\, tools\, and strategies for chapters in order to enhance educational impact and transformative changes in educational programming. \n\nIdentify best practices for building transformative mentorship programs\nExplore innovative STEAM initiatives and gain strategies to expand STEAM programming\nUncover issues in educational advocacy and include strategies for program implementation
URL:https://ncbw.org/event/webinar-transformational-education-programming/
LOCATION:Zoom Webinar
CATEGORIES:Education,Virtual
ATTACH;FMTTYPE=image/jpeg:https://ncbw.org/wp-content/uploads/2024/05/Education-Webinar_NCBW-Event-pic_1024-x-682.jpg
END:VEVENT
END:VCALENDAR