BEGIN:VCALENDAR
VERSION:2.0
PRODID:-//NCBW | National Coalition of 100 Black Women, Inc. - ECPv6.15.20//NONSGML v1.0//EN
CALSCALE:GREGORIAN
METHOD:PUBLISH
X-ORIGINAL-URL:https://ncbw.org
X-WR-CALDESC:Events for NCBW | National Coalition of 100 Black Women, Inc.
REFRESH-INTERVAL;VALUE=DURATION:PT1H
X-Robots-Tag:noindex
X-PUBLISHED-TTL:PT1H
BEGIN:VTIMEZONE
TZID:America/New_York
BEGIN:DAYLIGHT
TZOFFSETFROM:-0500
TZOFFSETTO:-0400
TZNAME:EDT
DTSTART:20230312T070000
END:DAYLIGHT
BEGIN:STANDARD
TZOFFSETFROM:-0400
TZOFFSETTO:-0500
TZNAME:EST
DTSTART:20231105T060000
END:STANDARD
BEGIN:DAYLIGHT
TZOFFSETFROM:-0500
TZOFFSETTO:-0400
TZNAME:EDT
DTSTART:20240310T070000
END:DAYLIGHT
BEGIN:STANDARD
TZOFFSETFROM:-0400
TZOFFSETTO:-0500
TZNAME:EST
DTSTART:20241103T060000
END:STANDARD
BEGIN:DAYLIGHT
TZOFFSETFROM:-0500
TZOFFSETTO:-0400
TZNAME:EDT
DTSTART:20250309T070000
END:DAYLIGHT
BEGIN:STANDARD
TZOFFSETFROM:-0400
TZOFFSETTO:-0500
TZNAME:EST
DTSTART:20251102T060000
END:STANDARD
END:VTIMEZONE
BEGIN:VEVENT
DTSTART;TZID=America/New_York:20241008T200000
DTEND;TZID=America/New_York:20241008T210000
DTSTAMP:20260420T040537
CREATED:20240930T135847Z
LAST-MODIFIED:20240930T135847Z
UID:11238-1728417600-1728421200@ncbw.org
SUMMARY:NCBW-Walgreens Webinar: Why Aren’t More Black Women Participating in Clinical Trials?
DESCRIPTION:National Coalition of 100 Black Women\, Inc. & Walgreens Present:\nWhy Aren’t More Black Women Participating in Clinical Trials?\nLet’s talk about it and what YOU can do to change that!\nCancer • Cardiovascular Disease (CVD) • Diabetes • Mental Health\nVaccinations and Immunizations: Unvaccinated People\nTHIS WEBINAR IS FREE AND OPEN TO THE PUBLIC.  \nREGISTER HERE: bit.ly/NCBW-Walgreens
URL:https://ncbw.org/event/ncbw-walgreens-webinar-why-arent-more-black-women-participating-in-clinical-trials/
LOCATION:Zoom Webinar
CATEGORIES:Health,Virtual
ATTACH;FMTTYPE=image/png:https://ncbw.org/wp-content/uploads/2024/09/NCBW-Walgreens-Webinar_NCBW-Event-pic_1024-x-682.png
END:VEVENT
END:VCALENDAR